BEGIN:VCALENDAR
VERSION:2.0
PRODID:SchoolNow
CALSCALE:GREGORIAN
BEGIN:VEVENT
UID:5bd6e5b2-c5e4-11ed-bfbe-0e3d1f2a25a1
DTSTAMP:20230318T232711Z
SUMMARY:Walking & Toning - May 8th
URL;VALUE=URI:https://www.wildernesslakecdd.org/calendar/3889275/walking-to
 ning-may-8th
DTSTART:20230508T133000Z
DTEND:20230508T144500Z
END:VEVENT
END:VCALENDAR
