BEGIN:VCALENDAR
VERSION:2.0
PRODID:SchoolNow
CALSCALE:GREGORIAN
BEGIN:VEVENT
UID:54951eae-c5e4-11ed-826b-0e3d1f2a25a1
DTSTAMP:20230318T232740Z
SUMMARY:Walking & Toning - May 5th
URL;VALUE=URI:https://www.wildernesslakecdd.org/calendar/3889274/walking-to
 ning-may-5th
DTSTART:20230505T133000Z
DTEND:20230505T144500Z
END:VEVENT
END:VCALENDAR
