BEGIN:VCALENDAR
VERSION:2.0
PRODID:SchoolNow
CALSCALE:GREGORIAN
BEGIN:VEVENT
UID:44f44060-c5e4-11ed-ab5b-0e3d1f2a25a1
DTSTAMP:20230318T232611Z
SUMMARY:Walking & Toning - May 3rd
URL;VALUE=URI:https://www.wildernesslakecdd.org/calendar/3889273/walking-to
 ning-may-3rd
DTSTART:20230503T133000Z
DTEND:20230503T144500Z
END:VEVENT
END:VCALENDAR
