BEGIN:VCALENDAR
VERSION:2.0
PRODID:SchoolNow
CALSCALE:GREGORIAN
BEGIN:VEVENT
UID:369ab440-c5e4-11ed-8008-0e3d1f2a25a1
DTSTAMP:20230318T232547Z
SUMMARY:Walking & Toning - May 1st
URL;VALUE=URI:https://www.wildernesslakecdd.org/calendar/3889272/walking-to
 ning-may-1st
DTSTART:20230501T133000Z
DTEND:20230501T144500Z
END:VEVENT
END:VCALENDAR
