BEGIN:VCALENDAR
VERSION:2.0
PRODID:SchoolNow
CALSCALE:GREGORIAN
BEGIN:VEVENT
UID:910dbfae-c5e3-11ed-bf83-0e3d1f2a25a1
DTSTAMP:20230318T232300Z
SUMMARY:Water Aerobics - Jun. 2nd
URL;VALUE=URI:https://www.wildernesslakecdd.org/calendar/3889271/water-aero
 bics-jun-2nd
DTSTART:20230602T130000Z
DTEND:20230602T140000Z
END:VEVENT
END:VCALENDAR
