BEGIN:VCALENDAR
VERSION:2.0
PRODID:SchoolNow
CALSCALE:GREGORIAN
BEGIN:VEVENT
UID:910c5b6e-c5e3-11ed-920c-0e3d1f2a25a1
DTSTAMP:20230318T232236Z
SUMMARY:Water Aerobics - Jun. 1st
URL;VALUE=URI:https://www.wildernesslakecdd.org/calendar/3889270/water-aero
 bics-jun-1st
DTSTART:20230601T130000Z
DTEND:20230601T140000Z
END:VEVENT
END:VCALENDAR
