BEGIN:VCALENDAR
VERSION:2.0
PRODID:SchoolNow
CALSCALE:GREGORIAN
BEGIN:VEVENT
UID:910b0a84-c5e3-11ed-a913-0e3d1f2a25a1
DTSTAMP:20230318T232211Z
SUMMARY:Water Aerobics - May 31st
URL;VALUE=URI:https://www.wildernesslakecdd.org/calendar/3889269/water-aero
 bics-may-31st
DTSTART:20230531T130000Z
DTEND:20230531T140000Z
END:VEVENT
END:VCALENDAR
