BEGIN:VCALENDAR
VERSION:2.0
PRODID:SchoolNow
CALSCALE:GREGORIAN
BEGIN:VEVENT
UID:9109a144-c5e3-11ed-9941-0e3d1f2a25a1
DTSTAMP:20230318T232149Z
SUMMARY:Water Aerobics - May 30th
URL;VALUE=URI:https://www.wildernesslakecdd.org/calendar/3889268/water-aero
 bics-may-30th
DTSTART:20230530T130000Z
DTEND:20230530T140000Z
END:VEVENT
END:VCALENDAR
