BEGIN:VCALENDAR
VERSION:2.0
PRODID:SchoolNow
CALSCALE:GREGORIAN
BEGIN:VEVENT
UID:9107de90-c5e3-11ed-9f80-0e3d1f2a25a1
DTSTAMP:20230318T232128Z
SUMMARY:Water Aerobics - May 29th
URL;VALUE=URI:https://www.wildernesslakecdd.org/calendar/3889267/water-aero
 bics-may-29th
DTSTART:20230529T130000Z
DTEND:20230529T140000Z
END:VEVENT
END:VCALENDAR
