BEGIN:VCALENDAR
VERSION:2.0
PRODID:SchoolNow
CALSCALE:GREGORIAN
BEGIN:VEVENT
UID:4f88a026-c5e3-11ed-b5ad-0e3d1f2a25a1
DTSTAMP:20230318T232056Z
SUMMARY:Water Aerobics - May 26th
URL;VALUE=URI:https://www.wildernesslakecdd.org/calendar/3889266/water-aero
 bics-may-26th
DTSTART:20230526T130000Z
DTEND:20230526T140000Z
END:VEVENT
END:VCALENDAR
