BEGIN:VCALENDAR
VERSION:2.0
PRODID:SchoolNow
CALSCALE:GREGORIAN
BEGIN:VEVENT
UID:4f870f54-c5e3-11ed-881e-0e3d1f2a25a1
DTSTAMP:20230318T232036Z
SUMMARY:Water Aerobics - May 25th
URL;VALUE=URI:https://www.wildernesslakecdd.org/calendar/3889265/water-aero
 bics-may-25th
DTSTART:20230525T130000Z
DTEND:20230525T140000Z
END:VEVENT
END:VCALENDAR
