BEGIN:VCALENDAR
VERSION:2.0
PRODID:SchoolNow
CALSCALE:GREGORIAN
BEGIN:VEVENT
UID:4f856faa-c5e3-11ed-a778-0e3d1f2a25a1
DTSTAMP:20230318T232016Z
SUMMARY:Water Aerobics - May 24th
URL;VALUE=URI:https://www.wildernesslakecdd.org/calendar/3889264/water-aero
 bics-may-24th
DTSTART:20230524T130000Z
DTEND:20230524T140000Z
END:VEVENT
END:VCALENDAR
