BEGIN:VCALENDAR
VERSION:2.0
PRODID:SchoolNow
CALSCALE:GREGORIAN
BEGIN:VEVENT
UID:4f83f94a-c5e3-11ed-8b51-0e3d1f2a25a1
DTSTAMP:20230318T232000Z
SUMMARY:Water Aerobics - May 23rd
URL;VALUE=URI:https://www.wildernesslakecdd.org/calendar/3889263/water-aero
 bics-may-23rd
DTSTART:20230523T130000Z
DTEND:20230523T140000Z
END:VEVENT
END:VCALENDAR
