BEGIN:VCALENDAR
VERSION:2.0
PRODID:SchoolNow
CALSCALE:GREGORIAN
BEGIN:VEVENT
UID:4f818804-c5e3-11ed-ad31-0e3d1f2a25a1
DTSTAMP:20230318T231939Z
SUMMARY:Water Aerobics - May 22nd
URL;VALUE=URI:https://www.wildernesslakecdd.org/calendar/3889262/water-aero
 bics-may-22nd
DTSTART:20230522T130000Z
DTEND:20230522T140000Z
END:VEVENT
END:VCALENDAR
