BEGIN:VCALENDAR
VERSION:2.0
PRODID:SchoolNow
CALSCALE:GREGORIAN
BEGIN:VEVENT
UID:1350f568-c5e3-11ed-81fb-0e3d1f2a25a1
DTSTAMP:20230318T231905Z
SUMMARY:Water Aerobics - May 19th
URL;VALUE=URI:https://www.wildernesslakecdd.org/calendar/3889261/water-aero
 bics-may-19th
DTSTART:20230519T130000Z
DTEND:20230519T140000Z
END:VEVENT
END:VCALENDAR
