BEGIN:VCALENDAR
VERSION:2.0
PRODID:SchoolNow
CALSCALE:GREGORIAN
BEGIN:VEVENT
UID:134f1afe-c5e3-11ed-b764-0e3d1f2a25a1
DTSTAMP:20230318T231847Z
SUMMARY:Water Aerobics - May 18th
URL;VALUE=URI:https://www.wildernesslakecdd.org/calendar/3889260/water-aero
 bics-may-18th
DTSTART:20230518T130000Z
DTEND:20230518T140000Z
END:VEVENT
END:VCALENDAR
