BEGIN:VCALENDAR
VERSION:2.0
PRODID:SchoolNow
CALSCALE:GREGORIAN
BEGIN:VEVENT
UID:134dacfa-c5e3-11ed-bdb4-0e3d1f2a25a1
DTSTAMP:20230318T231830Z
SUMMARY:Water Aerobics - May 17th
URL;VALUE=URI:https://www.wildernesslakecdd.org/calendar/3889259/water-aero
 bics-may-17th
DTSTART:20230517T130000Z
DTEND:20230517T140000Z
END:VEVENT
END:VCALENDAR
