BEGIN:VCALENDAR
VERSION:2.0
PRODID:SchoolNow
CALSCALE:GREGORIAN
BEGIN:VEVENT
UID:134c55e4-c5e3-11ed-8410-0e3d1f2a25a1
DTSTAMP:20230318T231813Z
SUMMARY:Water Aerobics - May 16th
URL;VALUE=URI:https://www.wildernesslakecdd.org/calendar/3889258/water-aero
 bics-may-16th
DTSTART:20230516T130000Z
DTEND:20230516T140000Z
END:VEVENT
END:VCALENDAR
