BEGIN:VCALENDAR
VERSION:2.0
PRODID:SchoolNow
CALSCALE:GREGORIAN
BEGIN:VEVENT
UID:134902ea-c5e3-11ed-9748-0e3d1f2a25a1
DTSTAMP:20230318T231757Z
SUMMARY:Water Aerobics - May 15th
URL;VALUE=URI:https://www.wildernesslakecdd.org/calendar/3889257/water-aero
 bics-may-15th
DTSTART:20230515T130000Z
DTEND:20230515T140000Z
END:VEVENT
END:VCALENDAR
