BEGIN:VCALENDAR
VERSION:2.0
PRODID:SchoolNow
CALSCALE:GREGORIAN
BEGIN:VEVENT
UID:d83ddafe-c5e2-11ed-a39a-0e3d1f2a25a1
DTSTAMP:20230318T231722Z
SUMMARY:Water Aerobics - May 12th
URL;VALUE=URI:https://www.wildernesslakecdd.org/calendar/3889256/water-aero
 bics-may-12th
DTSTART:20230512T130000Z
DTEND:20230512T140000Z
END:VEVENT
END:VCALENDAR
