BEGIN:VCALENDAR
VERSION:2.0
PRODID:SchoolNow
CALSCALE:GREGORIAN
BEGIN:VEVENT
UID:d83c78f8-c5e2-11ed-a42a-0e3d1f2a25a1
DTSTAMP:20230318T231708Z
SUMMARY:Water Aerobics - May 11th
URL;VALUE=URI:https://www.wildernesslakecdd.org/calendar/3889255/water-aero
 bics-may-11th
DTSTART:20230511T130000Z
DTEND:20230511T140000Z
END:VEVENT
END:VCALENDAR
