BEGIN:VCALENDAR
VERSION:2.0
PRODID:SchoolNow
CALSCALE:GREGORIAN
BEGIN:VEVENT
UID:d83b1260-c5e2-11ed-92df-0e3d1f2a25a1
DTSTAMP:20230318T231653Z
SUMMARY:Water Aerobics - May 10th
URL;VALUE=URI:https://www.wildernesslakecdd.org/calendar/3889254/water-aero
 bics-may-10th
DTSTART:20230510T130000Z
DTEND:20230510T140000Z
END:VEVENT
END:VCALENDAR
