BEGIN:VCALENDAR
VERSION:2.0
PRODID:SchoolNow
CALSCALE:GREGORIAN
BEGIN:VEVENT
UID:d8399f66-c5e2-11ed-bb91-0e3d1f2a25a1
DTSTAMP:20230318T231635Z
SUMMARY:Water Aerobics - May 9th
URL;VALUE=URI:https://www.wildernesslakecdd.org/calendar/3889253/water-aero
 bics-may-9th
DTSTART:20230509T130000Z
DTEND:20230509T140000Z
END:VEVENT
END:VCALENDAR
