BEGIN:VCALENDAR
VERSION:2.0
PRODID:SchoolNow
CALSCALE:GREGORIAN
BEGIN:VEVENT
UID:d837b78c-c5e2-11ed-88c6-0e3d1f2a25a1
DTSTAMP:20230318T231619Z
SUMMARY:Water Aerobics - May 8th
URL;VALUE=URI:https://www.wildernesslakecdd.org/calendar/3889252/water-aero
 bics-may-8th
DTSTART:20230508T130000Z
DTEND:20230508T140000Z
END:VEVENT
END:VCALENDAR
