BEGIN:VCALENDAR
VERSION:2.0
PRODID:SchoolNow
CALSCALE:GREGORIAN
BEGIN:VEVENT
UID:d350409a-c5e2-11ed-b1aa-0e3d1f2a25a1
DTSTAMP:20230318T231551Z
SUMMARY:Water Aerobics - May 5th
URL;VALUE=URI:https://www.wildernesslakecdd.org/calendar/3889251/water-aero
 bics-may-5th
DTSTART:20230505T130000Z
DTEND:20230505T140000Z
END:VEVENT
END:VCALENDAR
