BEGIN:VCALENDAR
VERSION:2.0
PRODID:SchoolNow
CALSCALE:GREGORIAN
BEGIN:VEVENT
UID:ca829a58-c5e2-11ed-991d-0e3d1f2a25a1
DTSTAMP:20230318T231536Z
SUMMARY:Water Aerobics - May 4th
URL;VALUE=URI:https://www.wildernesslakecdd.org/calendar/3889250/water-aero
 bics-may-4th
DTSTART:20230504T130000Z
DTEND:20230504T140000Z
END:VEVENT
END:VCALENDAR
