BEGIN:VCALENDAR
VERSION:2.0
PRODID:SchoolNow
CALSCALE:GREGORIAN
BEGIN:VEVENT
UID:c1640984-c5e2-11ed-a5ee-0e3d1f2a25a1
DTSTAMP:20230318T231521Z
SUMMARY:Water Aerobics - May 3rd
URL;VALUE=URI:https://www.wildernesslakecdd.org/calendar/3889249/water-aero
 bics-may-3rd
DTSTART:20230503T130000Z
DTEND:20230503T140000Z
END:VEVENT
END:VCALENDAR
