BEGIN:VCALENDAR
VERSION:2.0
PRODID:SchoolNow
CALSCALE:GREGORIAN
BEGIN:VEVENT
UID:b728a074-c5e2-11ed-8032-0e3d1f2a25a1
DTSTAMP:20230318T231504Z
SUMMARY:Water Aerobics - May 2nd
URL;VALUE=URI:https://www.wildernesslakecdd.org/calendar/3889248/water-aero
 bics-may-2nd
DTSTART:20230502T130000Z
DTEND:20230502T140000Z
END:VEVENT
END:VCALENDAR
