BEGIN:VCALENDAR
VERSION:2.0
PRODID:SchoolNow
CALSCALE:GREGORIAN
BEGIN:VEVENT
UID:99caee74-c5e2-11ed-8f74-0e3d1f2a25a1
DTSTAMP:20230318T231415Z
SUMMARY:Water Aerobics - May 1st
URL;VALUE=URI:https://www.wildernesslakecdd.org/calendar/3889247/water-aero
 bics-may-1st
DTSTART:20230501T130000Z
DTEND:20230501T140000Z
END:VEVENT
END:VCALENDAR
