BEGIN:VCALENDAR
VERSION:2.0
PRODID:SchoolNow
CALSCALE:GREGORIAN
BEGIN:VEVENT
UID:74e3269e-c5e2-11ed-a582-0e3d1f2a25a1
DTSTAMP:20230318T231313Z
SUMMARY:Art Class - Apr. 22nd
URL;VALUE=URI:https://www.wildernesslakecdd.org/calendar/3889246/art-class-
 apr-22nd
DTSTART:20230422T160000Z
DTEND:20230422T190000Z
END:VEVENT
END:VCALENDAR
