BEGIN:VCALENDAR
VERSION:2.0
PRODID:SchoolNow
CALSCALE:GREGORIAN
BEGIN:VEVENT
UID:5447811e-c5e2-11ed-a680-0e3d1f2a25a1
DTSTAMP:20230318T231218Z
SUMMARY:Sip & Paint - Apr. 14th
URL;VALUE=URI:https://www.wildernesslakecdd.org/calendar/3889245/sip-paint-
 apr-14th
DTSTART:20230414T220000Z
DTEND:20230415T003000Z
END:VEVENT
END:VCALENDAR
