BEGIN:VCALENDAR
VERSION:2.0
PRODID:SchoolNow
CALSCALE:GREGORIAN
BEGIN:VEVENT
UID:381a6ea2-c5e2-11ed-a0f4-0e3d1f2a25a1
DTSTAMP:20230318T231131Z
SUMMARY:ARC Meeting - Apr. 24th
URL;VALUE=URI:https://www.wildernesslakecdd.org/calendar/3889244/arc-meetin
 g-apr-24th
DTSTART:20230424T223000Z
DTEND:20230424T233000Z
END:VEVENT
END:VCALENDAR
