BEGIN:VCALENDAR
VERSION:2.0
PRODID:SchoolNow
CALSCALE:GREGORIAN
BEGIN:VEVENT
UID:2ae6d586-c5e2-11ed-9d6f-0e3d1f2a25a1
DTSTAMP:20230318T231109Z
SUMMARY:ARC Meeting - Apr. 10th
URL;VALUE=URI:https://www.wildernesslakecdd.org/calendar/3889243/arc-meetin
 g-apr-10th
DTSTART:20230410T223000Z
DTEND:20230410T233000Z
END:VEVENT
END:VCALENDAR
