BEGIN:VCALENDAR
VERSION:2.0
PRODID:SchoolNow
CALSCALE:GREGORIAN
BEGIN:VEVENT
UID:1439b8da-c5e2-11ed-b0cf-0e3d1f2a25a1
DTSTAMP:20230318T231031Z
SUMMARY:HOA Meeting - Apr. 25th
URL;VALUE=URI:https://www.wildernesslakecdd.org/calendar/3889242/hoa-meetin
 g-apr-25th
DTSTART:20230425T223000Z
DTEND:20230425T233000Z
END:VEVENT
END:VCALENDAR
