BEGIN:VCALENDAR
VERSION:2.0
PRODID:SchoolNow
CALSCALE:GREGORIAN
BEGIN:VEVENT
UID:bdebf42a-c5e1-11ed-bae7-0e3d1f2a25a1
DTSTAMP:20230318T230806Z
SUMMARY:Spring Festival
URL;VALUE=URI:https://www.wildernesslakecdd.org/calendar/3889241/spring-fes
 tival
DTSTART:20230408T160000Z
DTEND:20230408T190000Z
END:VEVENT
END:VCALENDAR
