BEGIN:VCALENDAR
VERSION:2.0
PRODID:SchoolNow
CALSCALE:GREGORIAN
BEGIN:VEVENT
UID:a580ae94-c5e1-11ed-8253-0e3d1f2a25a1
DTSTAMP:20230318T230725Z
SUMMARY:Egg Hunt
URL;VALUE=URI:https://www.wildernesslakecdd.org/calendar/3889240/egg-hunt
DTSTART:20230408T150000Z
DTEND:20230408T160000Z
END:VEVENT
END:VCALENDAR
