BEGIN:VCALENDAR
VERSION:2.0
PRODID:SchoolNow
CALSCALE:GREGORIAN
BEGIN:VEVENT
UID:8adb4680-c5e1-11ed-8065-0e3d1f2a25a1
DTSTAMP:20230318T230640Z
SUMMARY:Food Truck - Apr. 26th
URL;VALUE=URI:https://www.wildernesslakecdd.org/calendar/3889239/food-truck
 -apr-26th
DTSTART:20230426T210000Z
DTEND:20230426T233000Z
END:VEVENT
END:VCALENDAR
