BEGIN:VCALENDAR
VERSION:2.0
PRODID:SchoolNow
CALSCALE:GREGORIAN
BEGIN:VEVENT
UID:80b481bc-c5e1-11ed-abcc-0e3d1f2a25a1
DTSTAMP:20230318T230623Z
SUMMARY:Food Truck - Apr. 19th
URL;VALUE=URI:https://www.wildernesslakecdd.org/calendar/3889238/food-truck
 -apr-19th
DTSTART:20230419T210000Z
DTEND:20230419T233000Z
END:VEVENT
END:VCALENDAR
