BEGIN:VCALENDAR
VERSION:2.0
PRODID:SchoolNow
CALSCALE:GREGORIAN
BEGIN:VEVENT
UID:77f4bfc4-c5e1-11ed-aab4-0e3d1f2a25a1
DTSTAMP:20230318T230608Z
SUMMARY:Food Truck - Apr. 12th
URL;VALUE=URI:https://www.wildernesslakecdd.org/calendar/3889237/food-truck
 -apr-12th
DTSTART:20230412T210000Z
DTEND:20230412T233000Z
END:VEVENT
END:VCALENDAR
