BEGIN:VCALENDAR
VERSION:2.0
PRODID:SchoolNow
CALSCALE:GREGORIAN
BEGIN:VEVENT
UID:6805d580-c5e1-11ed-bb8a-0e3d1f2a25a1
DTSTAMP:20230318T230542Z
SUMMARY:Food Truck - Apr. 5th
URL;VALUE=URI:https://www.wildernesslakecdd.org/calendar/3889236/food-truck
 -apr-5th
DTSTART:20230405T210000Z
DTEND:20230405T233000Z
END:VEVENT
END:VCALENDAR
