BEGIN:VCALENDAR
VERSION:2.0
PRODID:SchoolNow
CALSCALE:GREGORIAN
BEGIN:VEVENT
UID:4cd094e4-c5e1-11ed-93dc-0e3d1f2a25a1
DTSTAMP:20230318T230456Z
SUMMARY:Card Games - Apr. 26th
URL;VALUE=URI:https://www.wildernesslakecdd.org/calendar/3889235/card-games
 -apr-26th
DTSTART:20230426T170000Z
DTEND:20230426T190000Z
END:VEVENT
END:VCALENDAR
