BEGIN:VCALENDAR
VERSION:2.0
PRODID:SchoolNow
CALSCALE:GREGORIAN
BEGIN:VEVENT
UID:435c93a4-c5e1-11ed-b57c-0e3d1f2a25a1
DTSTAMP:20230318T230440Z
SUMMARY:Card Games - Apr. 19th
URL;VALUE=URI:https://www.wildernesslakecdd.org/calendar/3889234/card-games
 -apr-19th
DTSTART:20230419T170000Z
DTEND:20230419T190000Z
END:VEVENT
END:VCALENDAR
