BEGIN:VCALENDAR
VERSION:2.0
PRODID:SchoolNow
CALSCALE:GREGORIAN
BEGIN:VEVENT
UID:3a5714aa-c5e1-11ed-9337-0e3d1f2a25a1
DTSTAMP:20230318T230425Z
SUMMARY:Card Games - Apr. 12th
URL;VALUE=URI:https://www.wildernesslakecdd.org/calendar/3889233/card-games
 -apr-12th
DTSTART:20230412T170000Z
DTEND:20230412T190000Z
END:VEVENT
END:VCALENDAR
