BEGIN:VCALENDAR
VERSION:2.0
PRODID:SchoolNow
CALSCALE:GREGORIAN
BEGIN:VEVENT
UID:11e79972-c5e1-11ed-9d19-0e3d1f2a25a1
DTSTAMP:20230318T230317Z
SUMMARY:Bible Study - Apr. 26th
URL;VALUE=URI:https://www.wildernesslakecdd.org/calendar/3889231/bible-stud
 y-apr-26th
DTSTART:20230426T140000Z
DTEND:20230426T150000Z
END:VEVENT
END:VCALENDAR
