BEGIN:VCALENDAR
VERSION:2.0
PRODID:SchoolNow
CALSCALE:GREGORIAN
BEGIN:VEVENT
UID:06627b3a-c5e1-11ed-9c67-0e3d1f2a25a1
DTSTAMP:20230318T230258Z
SUMMARY:Bible Study - Apr. 19th
URL;VALUE=URI:https://www.wildernesslakecdd.org/calendar/3889230/bible-stud
 y-apr-19th
DTSTART:20230419T140000Z
DTEND:20230419T150000Z
END:VEVENT
END:VCALENDAR
