BEGIN:VCALENDAR
VERSION:2.0
PRODID:SchoolNow
CALSCALE:GREGORIAN
BEGIN:VEVENT
UID:fc9453b2-c5e0-11ed-b864-0e3d1f2a25a1
DTSTAMP:20230318T230241Z
SUMMARY:Bible Study - Apr. 12th
URL;VALUE=URI:https://www.wildernesslakecdd.org/calendar/3889229/bible-stud
 y-apr-12th
DTSTART:20230412T140000Z
DTEND:20230412T150000Z
END:VEVENT
END:VCALENDAR
