BEGIN:VCALENDAR
VERSION:2.0
PRODID:SchoolNow
CALSCALE:GREGORIAN
BEGIN:VEVENT
UID:ed9e8fa8-c5e0-11ed-98af-0e3d1f2a25a1
DTSTAMP:20230318T230216Z
SUMMARY:Bible Study - Apr. 5th
URL;VALUE=URI:https://www.wildernesslakecdd.org/calendar/3889228/bible-stud
 y-apr-5th
DTSTART:20230405T140000Z
DTEND:20230405T150000Z
END:VEVENT
END:VCALENDAR
