BEGIN:VCALENDAR
VERSION:2.0
PRODID:SchoolNow
CALSCALE:GREGORIAN
BEGIN:VEVENT
UID:d5a154bc-c5e0-11ed-b05d-0e3d1f2a25a1
DTSTAMP:20230318T230136Z
SUMMARY:CDD Meeting - Apr. 5th
URL;VALUE=URI:https://www.wildernesslakecdd.org/calendar/3889225/cdd-meetin
 g-april-5th
DTSTART:20230405T133000Z
DTEND:20230405T180000Z
END:VEVENT
END:VCALENDAR
