BEGIN:VCALENDAR
VERSION:2.0
PRODID:SchoolNow
CALSCALE:GREGORIAN
BEGIN:VEVENT
UID:af17952c-c5e0-11ed-be12-0e3d1f2a25a1
DTSTAMP:20230318T230031Z
SUMMARY:Family Movie Night - Apr. 27
LOCATION:Theatre
URL;VALUE=URI:https://www.wildernesslakecdd.org/calendar/3889224/family-mov
 ie-night-apr-27
DTSTART:20230427T220000Z
DTEND:20230427T233000Z
END:VEVENT
END:VCALENDAR
