BEGIN:VCALENDAR
VERSION:2.0
PRODID:SchoolNow
CALSCALE:GREGORIAN
BEGIN:VEVENT
UID:a6744050-c5e0-11ed-8fee-0e3d1f2a25a1
DTSTAMP:20230318T230017Z
SUMMARY:Family Movie Night - Apr. 20
LOCATION:Theatre
URL;VALUE=URI:https://www.wildernesslakecdd.org/calendar/3889223/family-mov
 ie-night-apr-20
DTSTART:20230420T220000Z
DTEND:20230420T233000Z
END:VEVENT
END:VCALENDAR
